BEGIN:VCALENDAR
VERSION:2.0
PRODID:-//Scottish Catholic Education Service | SCES - ECPv6.8.1//NONSGML v1.0//EN
CALSCALE:GREGORIAN
METHOD:PUBLISH
X-WR-CALNAME:Scottish Catholic Education Service | SCES
X-ORIGINAL-URL:https://sces.org.uk
X-WR-CALDESC:Events for Scottish Catholic Education Service | SCES
REFRESH-INTERVAL;VALUE=DURATION:PT1H
X-Robots-Tag:noindex
X-PUBLISHED-TTL:PT1H
BEGIN:VTIMEZONE

END:VTIMEZONE
BEGIN:VEVENT
DTSTART;TZID=Europe/London:20260419T222427
DTEND;TZID=Europe/London:20260419T222427
DTSTAMP:20260419T222427
CREATED:20241118T160447Z
LAST-MODIFIED:20241118T160452Z
UID:12997-0-0@sces.org.uk
SUMMARY:Diocese of Motherwell Head Teacher Meeting 3
DESCRIPTION:These occasions provide an essential point of contact that promotes support\, guidance and exchange of ideas between Head Teacher colleagues and Archdiocesan staff
URL:https://sces.org.uk/event/diocese-of-motherwell-head-teacher-meeting-3/
CATEGORIES:N/A
END:VEVENT
BEGIN:VEVENT
DTSTART;TZID=Europe/London:20260419T222427
DTEND;TZID=Europe/London:20260419T222427
DTSTAMP:20260419T222427
CREATED:20241118T160428Z
LAST-MODIFIED:20241118T160428Z
UID:12987-0-0@sces.org.uk
SUMMARY:ACPHT Head teacher Retreat Session
DESCRIPTION:Lenten time of prayer and reflection forprimary head teachers in the Diocese of Mpotherwell
URL:https://sces.org.uk/event/acpht-head-teacher-retreat-session/
CATEGORIES:N/A
END:VEVENT
BEGIN:VEVENT
DTSTART;TZID=Europe/London:20260419T222427
DTEND;TZID=Europe/London:20260419T222427
DTSTAMP:20260419T222427
CREATED:20241118T160346Z
LAST-MODIFIED:20241118T160346Z
UID:12962-0-0@sces.org.uk
SUMMARY:RE Co-ordinators Meeting 3
DESCRIPTION:All  Motherwell RE Co-ordinators are invited to attend the second meeting of session\, with guest speaker from Aid to the Church in Need
URL:https://sces.org.uk/event/re-co-ordinators-meeting-3/
CATEGORIES:N/A
END:VEVENT
BEGIN:VEVENT
DTSTART;TZID=Europe/London:20260419T222427
DTEND;TZID=Europe/London:20260419T222427
DTSTAMP:20260419T222427
CREATED:20241118T160341Z
LAST-MODIFIED:20241118T160341Z
UID:12958-0-0@sces.org.uk
SUMMARY:Association of Catholic Primary Head Teachers (Motherwell) meeting 3
DESCRIPTION:All Motherwell Diocesan primary head teachers are invited to attend the first ACPHT meeting of the new session. The meeting will follow 9.30am Mass in the parish.
URL:https://sces.org.uk/event/association-of-catholic-primary-head-teachers-motherwell-meeting-3/
CATEGORIES:N/A
END:VEVENT
BEGIN:VEVENT
DTSTART;TZID=Europe/London:20260419T222427
DTEND;TZID=Europe/London:20260419T222427
DTSTAMP:20260419T222427
CREATED:20241118T160341Z
LAST-MODIFIED:20241118T160341Z
UID:12957-0-0@sces.org.uk
SUMMARY:Diocese of Motherwell Head Teacher Meeting 2
DESCRIPTION:These occasions provide an essential point of contact that promotes support\, guidance and exchange of ideas between Head Teacher colleagues and Archdiocesan staff
URL:https://sces.org.uk/event/diocese-of-motherwell-head-teacher-meeting-2/
CATEGORIES:N/A
END:VEVENT
BEGIN:VEVENT
DTSTART;TZID=Europe/London:20260419T222427
DTEND;TZID=Europe/London:20260419T222427
DTSTAMP:20260419T222427
CREATED:20241118T160340Z
LAST-MODIFIED:20241118T160340Z
UID:12956-0-0@sces.org.uk
SUMMARY:Catholic Deputes Motherwell Meeting 2
DESCRIPTION:Primary schools in the Diocese of Motherwell are invited to sendtheir depute or PT where the school has no depute. The focus of thismeeting will be on Marian devotions in schools
URL:https://sces.org.uk/event/catholic-deputes-motherwell-meeting-2/
CATEGORIES:N/A
END:VEVENT
BEGIN:VEVENT
DTSTART;TZID=Europe/London:20260419T222427
DTEND;TZID=Europe/London:20260419T222427
DTSTAMP:20260419T222427
CREATED:20241118T160328Z
LAST-MODIFIED:20241118T160331Z
UID:12950-0-0@sces.org.uk
SUMMARY:ASN co-ordinators meeting 2
DESCRIPTION:ASN Teachers who support RERC across Motherwell dioceseare invited to attend this diocesan meeting.
URL:https://sces.org.uk/event/asn-co-ordinators-meeting-2/
CATEGORIES:N/A
END:VEVENT
BEGIN:VEVENT
DTSTART;TZID=Europe/London:20260419T222427
DTEND;TZID=Europe/London:20260419T222427
DTSTAMP:20260419T222427
CREATED:20241118T160315Z
LAST-MODIFIED:20241118T160315Z
UID:12947-0-0@sces.org.uk
SUMMARY:Advent Carol Service
DESCRIPTION:The choirs of the Motherwell Schools Singing Programme will lead an Advent Carol Service for those associated with diocesan schools.
URL:https://sces.org.uk/event/advent-carol-service/
CATEGORIES:N/A
END:VEVENT
BEGIN:VEVENT
DTSTART;TZID=Europe/London:20260419T222427
DTEND;TZID=Europe/London:20260419T222427
DTSTAMP:20260419T222427
CREATED:20241118T160313Z
LAST-MODIFIED:20241118T160313Z
UID:12944-0-0@sces.org.uk
SUMMARY:Association of Catholic Primary Head Teachers (Motherwell) meeting 2
DESCRIPTION:All Motherwell Diocesan primary head teachers are invited to attend the first ACPHT meeting of the new session. The meeting will follow 9.30am Mass in the parish.
URL:https://sces.org.uk/event/association-of-catholic-primary-head-teachers-motherwell-meeting-2/
CATEGORIES:N/A
END:VEVENT
BEGIN:VEVENT
DTSTART;TZID=Europe/London:20260419T222427
DTEND;TZID=Europe/London:20260419T222427
DTSTAMP:20260419T222427
CREATED:20241118T160255Z
LAST-MODIFIED:20241118T160255Z
UID:12942-0-0@sces.org.uk
SUMMARY:Annual Education Mass
DESCRIPTION:Annual Mass for those associated with Catholic schools within the Diocese of Motherwell.
URL:https://sces.org.uk/event/annual-education-mass/
CATEGORIES:N/A
END:VEVENT
BEGIN:VEVENT
DTSTART;TZID=Europe/London:20260419T222427
DTEND;TZID=Europe/London:20260419T222427
DTSTAMP:20260419T222427
CREATED:20241118T160254Z
LAST-MODIFIED:20241118T160254Z
UID:12941-0-0@sces.org.uk
SUMMARY:New Diocesan Head Teachers Induction Day
DESCRIPTION:Before being commissioned by Bishop Toal during the Annual Education Mass\, new Head Teachers in Motherwell diocese are invited to attend this day long course which explores the distinct role of the Catholic Head teacher. Lunch is provided.
URL:https://sces.org.uk/event/new-diocesan-head-teachers-induction-day/
CATEGORIES:N/A
END:VEVENT
BEGIN:VEVENT
DTSTART;TZID=Europe/London:20260419T222427
DTEND;TZID=Europe/London:20260419T222427
DTSTAMP:20260419T222427
CREATED:20241118T155857Z
LAST-MODIFIED:20241118T155857Z
UID:12920-0-0@sces.org.uk
SUMMARY:ASN co-ordinators meeting 1
DESCRIPTION:ASN Teachers who support RERC across Motherwell dioceseare invited to attend this diocesan meeting.
URL:https://sces.org.uk/event/asn-co-ordinators-meeting-1/
CATEGORIES:N/A
END:VEVENT
BEGIN:VEVENT
DTSTART;TZID=Europe/London:20260419T222427
DTEND;TZID=Europe/London:20260419T222427
DTSTAMP:20260419T222427
CREATED:20241118T155817Z
LAST-MODIFIED:20241118T155817Z
UID:12912-0-0@sces.org.uk
SUMMARY:Diocese of Motherwell Head Teacher Meeting 1
DESCRIPTION:These occasions provide an essential point of contact that promotes support\, guidance and exchange of ideas between Head Teacher colleagues and Archdiocesan staff
URL:https://sces.org.uk/event/diocese-of-motherwell-head-teacher-meeting-1/
CATEGORIES:N/A
END:VEVENT
BEGIN:VEVENT
DTSTART;TZID=Europe/London:20260419T222427
DTEND;TZID=Europe/London:20260419T222427
DTSTAMP:20260419T222427
CREATED:20241118T155815Z
LAST-MODIFIED:20241118T155815Z
UID:12909-0-0@sces.org.uk
SUMMARY:Diocesan Day for Newly Qualified Teachers in South Lanarkshire schools
DESCRIPTION:During this core day for SLC probationers who are working in a denominational school\, there will be an opportunity to explore: the distinct ethos of a Catholic school\, relevent resources and documents\, approvals advice and practical advice and support on teaching in the Catholic context.
URL:https://sces.org.uk/event/diocesan-day-for-newly-qualified-teachers-in-south-lanarkshire-schools/
CATEGORIES:N/A
END:VEVENT
BEGIN:VEVENT
DTSTART;TZID=Europe/London:20260419T222427
DTEND;TZID=Europe/London:20260419T222427
DTSTAMP:20260419T222427
CREATED:20241118T155734Z
LAST-MODIFIED:20241118T155734Z
UID:12900-0-0@sces.org.uk
SUMMARY:Association of Catholic Primary Head Teachers (Motherwell) meeting 1
DESCRIPTION:All Motherwell Diocesan primary head teachers are invited to attend the first ACPHT meeting of the new session. The meeting will follow 9.30am Mass in the parish.
URL:https://sces.org.uk/event/association-of-catholic-primary-head-teachers-motherwell-meeting-1/
CATEGORIES:N/A
END:VEVENT
BEGIN:VEVENT
DTSTART;TZID=Europe/London:20260419T222427
DTEND;TZID=Europe/London:20260419T222427
DTSTAMP:20260419T222427
CREATED:20241118T155719Z
LAST-MODIFIED:20241118T155722Z
UID:12891-0-0@sces.org.uk
SUMMARY:Catholic Deputes Motherwell Meeting 1
DESCRIPTION:Primary schools in the Diocese of Motherwell are invited to sendtheir depute or PT where the school has no depute. The guestspeaker at thismeeting will be from SCES and have a focuson Laudato Si’ schools.
URL:https://sces.org.uk/event/catholic-deputes-motherwell-meeting-1/
CATEGORIES:N/A
END:VEVENT
END:VCALENDAR